BEGIN:VCALENDAR
PRODID:-//CD San Lorenzo v0.1//NONSGML iCal Writer//EN
VERSION:2.0
CALSCALE:GREGORIAN
METHOD:PUBLISH
BEGIN:VEVENT
UID:020260422154731
DTSTAMP:20180124T000000Z
DTSTART:20180124T000000Z
DTEND:20180124T010000Z
LOCATION:Lugar: Campo de fútbol &#34;Parque Mérida&#34;
SUMMARY:Femenino Base
DESCRIPTION:Detalles: 18:00 - 

TRANSP:OPAQUE
END:VEVENTBEGIN:VEVENT
UID:120260422154731
DTSTAMP:20180126T000000Z
DTSTART:20180126T000000Z
DTEND:20180126T010000Z
LOCATION:Lugar: Campo de fútbol &#34;Parque Mérida&#34;
SUMMARY:Femenino Base
DESCRIPTION:Detalles: 18:00 - 

TRANSP:OPAQUE
END:VEVENTBEGIN:VEVENT
UID:220260422154731
DTSTAMP:20180131T000000Z
DTSTART:20180131T000000Z
DTEND:20180131T010000Z
LOCATION:Lugar: Campo de fútbol &#34;Parque Mérida&#34;
SUMMARY:Femenino Base
DESCRIPTION:Detalles: 18:00 - 

TRANSP:OPAQUE
END:VEVENTBEGIN:VEVENT
UID:320260422154731
DTSTAMP:20180202T000000Z
DTSTART:20180202T000000Z
DTEND:20180202T010000Z
LOCATION:Lugar: Campo de fútbol &#34;Parque Mérida&#34;
SUMMARY:Femenino Base
DESCRIPTION:Detalles: 18:00 - 

TRANSP:OPAQUE
END:VEVENTBEGIN:VEVENT
UID:420260422154731
DTSTAMP:20180207T000000Z
DTSTART:20180207T000000Z
DTEND:20180207T010000Z
LOCATION:Lugar: Campo de fútbol &#34;Parque Mérida&#34;
SUMMARY:Femenino Base
DESCRIPTION:Detalles: 18:00 - 

TRANSP:OPAQUE
END:VEVENTBEGIN:VEVENT
UID:520260422154731
DTSTAMP:20180209T000000Z
DTSTART:20180209T000000Z
DTEND:20180209T010000Z
LOCATION:Lugar: Campo de fútbol &#34;Parque Mérida&#34;
SUMMARY:Femenino Base
DESCRIPTION:Detalles: 18:00 - 

TRANSP:OPAQUE
END:VEVENTBEGIN:VEVENT
UID:620260422154731
DTSTAMP:20180214T000000Z
DTSTART:20180214T000000Z
DTEND:20180214T010000Z
LOCATION:Lugar: Campo de fútbol &#34;Parque Mérida&#34;
SUMMARY:Femenino Base
DESCRIPTION:Detalles: 18:00 - 

TRANSP:OPAQUE
END:VEVENTBEGIN:VEVENT
UID:720260422154731
DTSTAMP:20180216T000000Z
DTSTART:20180216T000000Z
DTEND:20180216T010000Z
LOCATION:Lugar: Campo de fútbol &#34;Parque Mérida&#34;
SUMMARY:Femenino Base
DESCRIPTION:Detalles: 18:00 - 

TRANSP:OPAQUE
END:VEVENTBEGIN:VEVENT
UID:820260422154731
DTSTAMP:20180221T000000Z
DTSTART:20180221T000000Z
DTEND:20180221T010000Z
LOCATION:Lugar: Campo de fútbol &#34;Parque Mérida&#34;
SUMMARY:Femenino Base
DESCRIPTION:Detalles: 18:00 - 

TRANSP:OPAQUE
END:VEVENTBEGIN:VEVENT
UID:920260422154731
DTSTAMP:20180223T000000Z
DTSTART:20180223T000000Z
DTEND:20180223T010000Z
LOCATION:Lugar: Campo de fútbol &#34;Parque Mérida&#34;
SUMMARY:Femenino Base
DESCRIPTION:Detalles: 18:00 - 

TRANSP:OPAQUE
END:VEVENTBEGIN:VEVENT
UID:1020260422154731
DTSTAMP:20180228T000000Z
DTSTART:20180228T000000Z
DTEND:20180228T010000Z
LOCATION:Lugar: Campo de fútbol &#34;Parque Mérida&#34;
SUMMARY:Femenino Base
DESCRIPTION:Detalles: 18:00 - 

TRANSP:OPAQUE
END:VEVENTBEGIN:VEVENT
UID:1120260422154731
DTSTAMP:20180302T000000Z
DTSTART:20180302T000000Z
DTEND:20180302T010000Z
LOCATION:Lugar: Campo de fútbol &#34;Parque Mérida&#34;
SUMMARY:Femenino Base
DESCRIPTION:Detalles: 18:00 - 

TRANSP:OPAQUE
END:VEVENTBEGIN:VEVENT
UID:1220260422154731
DTSTAMP:20180307T000000Z
DTSTART:20180307T000000Z
DTEND:20180307T010000Z
LOCATION:Lugar: Campo de fútbol &#34;Parque Mérida&#34;
SUMMARY:Femenino Base
DESCRIPTION:Detalles: 18:00 - 

TRANSP:OPAQUE
END:VEVENTBEGIN:VEVENT
UID:1320260422154731
DTSTAMP:20180309T000000Z
DTSTART:20180309T000000Z
DTEND:20180309T010000Z
LOCATION:Lugar: Campo de fútbol &#34;Parque Mérida&#34;
SUMMARY:Femenino Base
DESCRIPTION:Detalles: 18:00 - 

TRANSP:OPAQUE
END:VEVENTBEGIN:VEVENT
UID:1420260422154731
DTSTAMP:20180314T000000Z
DTSTART:20180314T000000Z
DTEND:20180314T010000Z
LOCATION:Lugar: Campo de fútbol &#34;Parque Mérida&#34;
SUMMARY:Femenino Base
DESCRIPTION:Detalles: 18:00 - 

TRANSP:OPAQUE
END:VEVENTBEGIN:VEVENT
UID:1520260422154731
DTSTAMP:20180316T000000Z
DTSTART:20180316T000000Z
DTEND:20180316T010000Z
LOCATION:Lugar: Campo de fútbol &#34;Parque Mérida&#34;
SUMMARY:Femenino Base
DESCRIPTION:Detalles: 18:00 - 

TRANSP:OPAQUE
END:VEVENTBEGIN:VEVENT
UID:1620260422154731
DTSTAMP:20180321T000000Z
DTSTART:20180321T000000Z
DTEND:20180321T010000Z
LOCATION:Lugar: Campo de fútbol &#34;Parque Mérida&#34;
SUMMARY:Femenino Base
DESCRIPTION:Detalles: 18:00 - 

TRANSP:OPAQUE
END:VEVENTBEGIN:VEVENT
UID:1720260422154731
DTSTAMP:20180323T000000Z
DTSTART:20180323T000000Z
DTEND:20180323T010000Z
LOCATION:Lugar: Campo de fútbol &#34;Parque Mérida&#34;
SUMMARY:Femenino Base
DESCRIPTION:Detalles: 18:00 - 

TRANSP:OPAQUE
END:VEVENTBEGIN:VEVENT
UID:1820260422154731
DTSTAMP:20180328T000000Z
DTSTART:20180328T000000Z
DTEND:20180328T010000Z
LOCATION:Lugar: Campo de fútbol &#34;Parque Mérida&#34;
SUMMARY:Femenino Base
DESCRIPTION:Detalles: 18:00 - 

TRANSP:OPAQUE
END:VEVENTBEGIN:VEVENT
UID:1920260422154731
DTSTAMP:20180330T000000Z
DTSTART:20180330T000000Z
DTEND:20180330T010000Z
LOCATION:Lugar: Campo de fútbol &#34;Parque Mérida&#34;
SUMMARY:Femenino Base
DESCRIPTION:Detalles: 18:00 - 

TRANSP:OPAQUE
END:VEVENTBEGIN:VEVENT
UID:2020260422154731
DTSTAMP:20180404T000000Z
DTSTART:20180404T000000Z
DTEND:20180404T010000Z
LOCATION:Lugar: Campo de fútbol &#34;Parque Mérida&#34;
SUMMARY:Femenino Base
DESCRIPTION:Detalles: 18:00 - 

TRANSP:OPAQUE
END:VEVENTBEGIN:VEVENT
UID:2120260422154731
DTSTAMP:20180406T000000Z
DTSTART:20180406T000000Z
DTEND:20180406T010000Z
LOCATION:Lugar: Campo de fútbol &#34;Parque Mérida&#34;
SUMMARY:Femenino Base
DESCRIPTION:Detalles: 18:00 - 

TRANSP:OPAQUE
END:VEVENTBEGIN:VEVENT
UID:2220260422154731
DTSTAMP:20180411T000000Z
DTSTART:20180411T000000Z
DTEND:20180411T010000Z
LOCATION:Lugar: Campo de fútbol &#34;Parque Mérida&#34;
SUMMARY:Femenino Base
DESCRIPTION:Detalles: 18:00 - 

TRANSP:OPAQUE
END:VEVENTBEGIN:VEVENT
UID:2320260422154731
DTSTAMP:20180413T000000Z
DTSTART:20180413T000000Z
DTEND:20180413T010000Z
LOCATION:Lugar: Campo de fútbol &#34;Parque Mérida&#34;
SUMMARY:Femenino Base
DESCRIPTION:Detalles: 18:00 - 

TRANSP:OPAQUE
END:VEVENTBEGIN:VEVENT
UID:2420260422154731
DTSTAMP:20180418T000000Z
DTSTART:20180418T000000Z
DTEND:20180418T010000Z
LOCATION:Lugar: Campo de fútbol &#34;Parque Mérida&#34;
SUMMARY:Femenino Base
DESCRIPTION:Detalles: 18:00 - 

TRANSP:OPAQUE
END:VEVENTBEGIN:VEVENT
UID:2520260422154731
DTSTAMP:20180420T000000Z
DTSTART:20180420T000000Z
DTEND:20180420T010000Z
LOCATION:Lugar: Campo de fútbol &#34;Parque Mérida&#34;
SUMMARY:Femenino Base
DESCRIPTION:Detalles: 18:00 - 

TRANSP:OPAQUE
END:VEVENTBEGIN:VEVENT
UID:2620260422154731
DTSTAMP:20180425T000000Z
DTSTART:20180425T000000Z
DTEND:20180425T010000Z
LOCATION:Lugar: Campo de fútbol &#34;Parque Mérida&#34;
SUMMARY:Femenino Base
DESCRIPTION:Detalles: 18:00 - 

TRANSP:OPAQUE
END:VEVENTBEGIN:VEVENT
UID:2720260422154731
DTSTAMP:20180427T000000Z
DTSTART:20180427T000000Z
DTEND:20180427T010000Z
LOCATION:Lugar: Campo de fútbol &#34;Parque Mérida&#34;
SUMMARY:Femenino Base
DESCRIPTION:Detalles: 18:00 - 

TRANSP:OPAQUE
END:VEVENTBEGIN:VEVENT
UID:2820260422154731
DTSTAMP:20180502T000000Z
DTSTART:20180502T000000Z
DTEND:20180502T010000Z
LOCATION:Lugar: Campo de fútbol &#34;Parque Mérida&#34;
SUMMARY:Femenino Base
DESCRIPTION:Detalles: 18:00 - 

TRANSP:OPAQUE
END:VEVENTBEGIN:VEVENT
UID:2920260422154731
DTSTAMP:20180504T000000Z
DTSTART:20180504T000000Z
DTEND:20180504T010000Z
LOCATION:Lugar: Campo de fútbol &#34;Parque Mérida&#34;
SUMMARY:Femenino Base
DESCRIPTION:Detalles: 18:00 - 

TRANSP:OPAQUE
END:VEVENTBEGIN:VEVENT
UID:3020260422154731
DTSTAMP:20180509T000000Z
DTSTART:20180509T000000Z
DTEND:20180509T010000Z
LOCATION:Lugar: Campo de fútbol &#34;Parque Mérida&#34;
SUMMARY:Femenino Base
DESCRIPTION:Detalles: 18:00 - 

TRANSP:OPAQUE
END:VEVENTBEGIN:VEVENT
UID:3120260422154731
DTSTAMP:20180511T000000Z
DTSTART:20180511T000000Z
DTEND:20180511T010000Z
LOCATION:Lugar: Campo de fútbol &#34;Parque Mérida&#34;
SUMMARY:Femenino Base
DESCRIPTION:Detalles: 18:00 - 

TRANSP:OPAQUE
END:VEVENTBEGIN:VEVENT
UID:3220260422154731
DTSTAMP:20180516T000000Z
DTSTART:20180516T000000Z
DTEND:20180516T010000Z
LOCATION:Lugar: Campo de fútbol &#34;Parque Mérida&#34;
SUMMARY:Femenino Base
DESCRIPTION:Detalles: 18:00 - 

TRANSP:OPAQUE
END:VEVENTBEGIN:VEVENT
UID:3320260422154731
DTSTAMP:20180518T000000Z
DTSTART:20180518T000000Z
DTEND:20180518T010000Z
LOCATION:Lugar: Campo de fútbol &#34;Parque Mérida&#34;
SUMMARY:Femenino Base
DESCRIPTION:Detalles: 18:00 - 

TRANSP:OPAQUE
END:VEVENTBEGIN:VEVENT
UID:3420260422154731
DTSTAMP:20180523T000000Z
DTSTART:20180523T000000Z
DTEND:20180523T010000Z
LOCATION:Lugar: Campo de fútbol &#34;Parque Mérida&#34;
SUMMARY:Femenino Base
DESCRIPTION:Detalles: 18:00 - 

TRANSP:OPAQUE
END:VEVENTBEGIN:VEVENT
UID:3520260422154731
DTSTAMP:20180525T000000Z
DTSTART:20180525T000000Z
DTEND:20180525T010000Z
LOCATION:Lugar: Campo de fútbol &#34;Parque Mérida&#34;
SUMMARY:Femenino Base
DESCRIPTION:Detalles: 18:00 - 

TRANSP:OPAQUE
END:VEVENTBEGIN:VEVENT
UID:3620260422154731
DTSTAMP:20180530T000000Z
DTSTART:20180530T000000Z
DTEND:20180530T010000Z
LOCATION:Lugar: Campo de fútbol &#34;Parque Mérida&#34;
SUMMARY:Femenino Base
DESCRIPTION:Detalles: 18:00 - 

TRANSP:OPAQUE
END:VEVENTBEGIN:VEVENT
UID:3720260422154731
DTSTAMP:20180601T000000Z
DTSTART:20180601T000000Z
DTEND:20180601T010000Z
LOCATION:Lugar: Campo de fútbol &#34;Parque Mérida&#34;
SUMMARY:Femenino Base
DESCRIPTION:Detalles: 18:00 - 

TRANSP:OPAQUE
END:VEVENTBEGIN:VEVENT
UID:3820260422154731
DTSTAMP:20180606T000000Z
DTSTART:20180606T000000Z
DTEND:20180606T010000Z
LOCATION:Lugar: Campo de fútbol &#34;Parque Mérida&#34;
SUMMARY:Femenino Base
DESCRIPTION:Detalles: 18:00 - 

TRANSP:OPAQUE
END:VEVENTBEGIN:VEVENT
UID:3920260422154731
DTSTAMP:20180608T000000Z
DTSTART:20180608T000000Z
DTEND:20180608T010000Z
LOCATION:Lugar: Campo de fútbol &#34;Parque Mérida&#34;
SUMMARY:Femenino Base
DESCRIPTION:Detalles: 18:00 - 

TRANSP:OPAQUE
END:VEVENTBEGIN:VEVENT
UID:4020260422154731
DTSTAMP:20180613T000000Z
DTSTART:20180613T000000Z
DTEND:20180613T010000Z
LOCATION:Lugar: Campo de fútbol &#34;Parque Mérida&#34;
SUMMARY:Femenino Base
DESCRIPTION:Detalles: 18:00 - 

TRANSP:OPAQUE
END:VEVENTBEGIN:VEVENT
UID:4120260422154731
DTSTAMP:20180615T000000Z
DTSTART:20180615T000000Z
DTEND:20180615T010000Z
LOCATION:Lugar: Campo de fútbol &#34;Parque Mérida&#34;
SUMMARY:Femenino Base
DESCRIPTION:Detalles: 18:00 - 

TRANSP:OPAQUE
END:VEVENTBEGIN:VEVENT
UID:4220260422154731
DTSTAMP:20180620T000000Z
DTSTART:20180620T000000Z
DTEND:20180620T010000Z
LOCATION:Lugar: Campo de fútbol &#34;Parque Mérida&#34;
SUMMARY:Femenino Base
DESCRIPTION:Detalles: 18:00 - 

TRANSP:OPAQUE
END:VEVENTBEGIN:VEVENT
UID:4320260422154731
DTSTAMP:20180622T000000Z
DTSTART:20180622T000000Z
DTEND:20180622T010000Z
LOCATION:Lugar: Campo de fútbol &#34;Parque Mérida&#34;
SUMMARY:Femenino Base
DESCRIPTION:Detalles: 18:00 - 

TRANSP:OPAQUE
END:VEVENTBEGIN:VEVENT
UID:4420260422154731
DTSTAMP:20180705T000000Z
DTSTART:20180705T000000Z
DTEND:20180705T010000Z
LOCATION:Lugar: Campo Fútbol Parque Mérida
SUMMARY:Cto. Provincial Alevín 2º año Castellón Grupo 4
DESCRIPTION: - 

TRANSP:OPAQUE
END:VEVENTBEGIN:VEVENT
UID:4520260422154731
DTSTAMP:20180706T000000Z
DTSTART:20180706T000000Z
DTEND:20180706T010000Z
LOCATION:Lugar: Campo Fútbol Parque Mérida
SUMMARY:Cto. Provincial Alevín 2º año Castellón Grupo 4
DESCRIPTION: - 

TRANSP:OPAQUE
END:VEVENTBEGIN:VEVENT
UID:4620260422154731
DTSTAMP:20180711T000000Z
DTSTART:20180711T000000Z
DTEND:20180711T010000Z
LOCATION:Lugar: Campo Fútbol Parque Mérida
SUMMARY:Cto. Provincial Alevín 2º año Castellón Grupo 4
DESCRIPTION: - 

TRANSP:OPAQUE
END:VEVENTBEGIN:VEVENT
UID:4720260422154731
DTSTAMP:20180713T000000Z
DTSTART:20180713T000000Z
DTEND:20180713T010000Z
LOCATION:Lugar: Campo Fútbol Parque Mérida
SUMMARY:Cto. Provincial Alevín 2º año Castellón Grupo 4
DESCRIPTION: - 

TRANSP:OPAQUE
END:VEVENTBEGIN:VEVENT
UID:4820260422154731
DTSTAMP:20180718T000000Z
DTSTART:20180718T000000Z
DTEND:20180718T010000Z
LOCATION:Lugar: Campo Fútbol Parque Mérida
SUMMARY:Cto. Provincial Alevín 2º año Castellón Grupo 4
DESCRIPTION: - 

TRANSP:OPAQUE
END:VEVENTBEGIN:VEVENT
UID:4920260422154731
DTSTAMP:20180720T000000Z
DTSTART:20180720T000000Z
DTEND:20180720T010000Z
LOCATION:Lugar: Campo Fútbol Parque Mérida
SUMMARY:Cto. Provincial Alevín 2º año Castellón Grupo 4
DESCRIPTION: - 

TRANSP:OPAQUE
END:VEVENTBEGIN:VEVENT
UID:5020260422154731
DTSTAMP:20180725T000000Z
DTSTART:20180725T000000Z
DTEND:20180725T010000Z
LOCATION:Lugar: Campo Fútbol Parque Mérida
SUMMARY:Cto. Provincial Alevín 2º año Castellón Grupo 4
DESCRIPTION: - 

TRANSP:OPAQUE
END:VEVENTBEGIN:VEVENT
UID:5120260422154731
DTSTAMP:20180727T000000Z
DTSTART:20180727T000000Z
DTEND:20180727T010000Z
LOCATION:Lugar: Campo Fútbol Parque Mérida
SUMMARY:Cto. Provincial Alevín 2º año Castellón Grupo 4
DESCRIPTION: - 

TRANSP:OPAQUE
END:VEVENT
END:VCALENDAR